BEGIN:VCALENDAR
VERSION:2.0
PRODID:-//A2LA WPT Training Site - ECPv6.15.20//NONSGML v1.0//EN
CALSCALE:GREGORIAN
METHOD:PUBLISH
X-ORIGINAL-URL:https://a2lawpt.org
X-WR-CALDESC:Events for A2LA WPT Training Site
REFRESH-INTERVAL;VALUE=DURATION:PT1H
X-Robots-Tag:noindex
X-PUBLISHED-TTL:PT1H
BEGIN:VTIMEZONE
TZID:America/New_York
BEGIN:DAYLIGHT
TZOFFSETFROM:-0500
TZOFFSETTO:-0400
TZNAME:EDT
DTSTART:20240310T070000
END:DAYLIGHT
BEGIN:STANDARD
TZOFFSETFROM:-0400
TZOFFSETTO:-0500
TZNAME:EST
DTSTART:20241103T060000
END:STANDARD
BEGIN:DAYLIGHT
TZOFFSETFROM:-0500
TZOFFSETTO:-0400
TZNAME:EDT
DTSTART:20250309T070000
END:DAYLIGHT
BEGIN:STANDARD
TZOFFSETFROM:-0400
TZOFFSETTO:-0500
TZNAME:EST
DTSTART:20251102T060000
END:STANDARD
BEGIN:DAYLIGHT
TZOFFSETFROM:-0500
TZOFFSETTO:-0400
TZNAME:EDT
DTSTART:20260308T070000
END:DAYLIGHT
BEGIN:STANDARD
TZOFFSETFROM:-0400
TZOFFSETTO:-0500
TZNAME:EST
DTSTART:20261101T060000
END:STANDARD
END:VTIMEZONE
BEGIN:VEVENT
DTSTART;TZID=America/New_York:20250203T130000
DTEND;TZID=America/New_York:20250206T170000
DTSTAMP:20260421T052409
CREATED:20240812T140503Z
LAST-MODIFIED:20240925T143625Z
UID:1023-1738587600-1738861200@a2lawpt.org
SUMMARY:Applied Measurement Uncertainty for Testing Laboratories
DESCRIPTION:During this workshop\, the participant will be introduced to several tools and techniques that can be applied in the testing laboratory environment to efficiently and effectively create measurement uncertainty budgets which comply with ISO/IEC 17025 requirements.
URL:https://a2lawpt.org/event/applied-measurement-uncertainty-for-testing-laboratories-2/
LOCATION:Virtual Event
END:VEVENT
BEGIN:VEVENT
DTSTART;TZID=America/New_York:20250203T130000
DTEND;TZID=America/New_York:20250206T170000
DTSTAMP:20260421T052409
CREATED:20241104T192603Z
LAST-MODIFIED:20241104T210216Z
UID:1136-1738587600-1738861200@a2lawpt.org
SUMMARY:Applied Measurement Uncertainty for Calibration Laboratories
DESCRIPTION:During this course\, the participant will be introduced to several tools and techniques that can be applied in the calibration laboratory environment to efficiently and effectively create measurement uncertainty budgets which comply with ISO/IEC 17025 requirements.
URL:https://a2lawpt.org/event/applied-measurement-uncertainty-for-calibration-laboratories-6/
LOCATION:Virtual Event
END:VEVENT
BEGIN:VEVENT
DTSTART;TZID=America/New_York:20250218T080000
DTEND;TZID=America/New_York:20250219T170000
DTSTAMP:20260421T052409
CREATED:20240812T140421Z
LAST-MODIFIED:20240925T142053Z
UID:1027-1739865600-1739984400@a2lawpt.org
SUMMARY:ISO/IEC 17020:2012 and Inspection Body Accreditation
DESCRIPTION:This course provides the participant with a comprehensive look at ISO/IEC 17020 and its requirements for Inspection Bodies.
URL:https://a2lawpt.org/event/iso-iec-170202012-and-inspection-body-accreditation-3/
LOCATION:Virtual Event
END:VEVENT
BEGIN:VEVENT
DTSTART;TZID=America/New_York:20250218T080000
DTEND;TZID=America/New_York:20250219T170000
DTSTAMP:20260421T052409
CREATED:20240812T140437Z
LAST-MODIFIED:20240925T142820Z
UID:992-1739865600-1739984400@a2lawpt.org
SUMMARY:Understanding ISO/IEC 17025:2017 for Testing & Calibration Labs
DESCRIPTION:This course is a comprehensive review of the philosophies and requirements of ISO/IEC 17025:2017.
URL:https://a2lawpt.org/event/understanding-iso-iec-170252017-for-testing-calibration-labs-14/
LOCATION:Virtual Event
END:VEVENT
END:VCALENDAR